BEGIN:VCALENDAR
VERSION:2.0
CALSCALE:GREGORIAN
PRODID:-//Diputació de Barcelona//DibaCMS//EN
BEGIN:VEVENT
UID:1688
DTSTAMP:20260421T022339
DTSTART:20251221T193000
DTEND:20251221T210000
SUMMARY:Cicle Cultural FLUEIX - Celebration
LOCATION:Casal de Carme 
METHOD:PUBLISH
X-WR-CALNAME:st.m.miralles@santamariademiralles.cat
X-WR-TIMEZONE:Europe/Madrid
DESCRIPTION:
URI:https://www.santamariademiralles.cat/actualitat/agenda/cicle-cultural-flueix-celebration.html
CLASS:PUBLIC
END:VEVENT
END:VCALENDAR
