BEGIN:VCALENDAR
VERSION:2.0
CALSCALE:GREGORIAN
PRODID:-//Diputació de Barcelona//DibaCMS//EN
BEGIN:VEVENT
UID:1689
DTSTAMP:20260421T023030
DTSTART:20251220T183000
DTEND:20251220T200000
SUMMARY:Cicle Cultural FLUEIX -Concert de Goig
LOCATION:Església de Santa Candia d'Orpí 
METHOD:PUBLISH
X-WR-CALNAME:st.m.miralles@santamariademiralles.cat
X-WR-TIMEZONE:Europe/Madrid
DESCRIPTION:
URI:https://www.santamariademiralles.cat/actualitat/agenda/cicle-cultural-flueix-concert-de-goig.html
CLASS:PUBLIC
END:VEVENT
END:VCALENDAR
