BEGIN:VCALENDAR
VERSION:2.0
CALSCALE:GREGORIAN
PRODID:-//Diputació de Barcelona//DibaCMS//EN
BEGIN:VEVENT
UID:1690
DTSTAMP:20260421T001156
DTSTART:20251120T130000
DTEND:20251124T000000
SUMMARY:Setmana de la Pedra Seca 2025
LOCATION:
METHOD:PUBLISH
X-WR-CALNAME:st.m.miralles@santamariademiralles.cat
X-WR-TIMEZONE:Europe/Madrid
DESCRIPTION:Taller de Pedra Seca. Rehabilitació i construcció de murs de pedra

Us convidem a participar del taller teòric-pràctic per conèixer la tècnica de construcció amb pedra seca .

Diumenge, 23 de novembre de 2025 de 9:00 h a 16:00 h a l'església del Castell de Miralles

Activitat gratuïta. Inscripcions per whatsapp al 621 24 65 92 fins el 20 de novembre de 2025

Inclou dinar: Botifarra amb mongetes, pa, aigua i vi.

URI:https://www.santamariademiralles.cat/actualitat/agenda/setmana-de-la-pedra-seca-2025.html
CLASS:PUBLIC
END:VEVENT
END:VCALENDAR
