BEGIN:VCALENDAR
VERSION:2.0
CALSCALE:GREGORIAN
PRODID:-//Diputació de Barcelona//DibaCMS//EN
BEGIN:VEVENT
UID:1693
DTSTAMP:20260421T043015
DTSTART:20251120T110000
DTEND:20251129T000000
SUMMARY:Taller de creació de centres de Nadal
LOCATION:Crta Igualada a Valls s/n  08787 Santa Maria de Miralles
METHOD:PUBLISH
X-WR-CALNAME:st.m.miralles@santamariademiralles.cat
X-WR-TIMEZONE:Europe/Madrid
DESCRIPTION:Vols donar un toc especial a casa aquest Nadal? 

Vine a passar una tarda creativa i aprèn a fer el teu propi centre nadalenc!

Dissabte, 29 de novembre de 2025

a les 18:00h al Local Social de les Antigues Escoles

Inscripcions per WhatsApp: 621 246 592, fins el 28 de novembre a les 14:00 h

*12 Places disponibles

URI:https://www.santamariademiralles.cat/actualitat/agenda/taller-de-creacio-de-centres-de-nadal.html
CLASS:PUBLIC
END:VEVENT
END:VCALENDAR
