BEGIN:VCALENDAR
VERSION:2.0
CALSCALE:GREGORIAN
PRODID:-//Diputació de Barcelona//DibaCMS//EN
BEGIN:VEVENT
UID:1696
DTSTAMP:20260420T173517
DTSTART:20201122T120000
DTEND:20201122T130000
SUMMARY:SUSPESA: Visita guiada al castell de Miralles - duplicat
LOCATION:08787 Santa Maria de Miralles
METHOD:PUBLISH
X-WR-CALNAME:st.m.miralles@santamariademiralles.cat
X-WR-TIMEZONE:Europe/Madrid
DESCRIPTION:
URI:https://www.santamariademiralles.cat/actualitat/agenda/suspesa-visita-guiada-al-castell-de-miralles-duplicat.html
CLASS:PUBLIC
END:VEVENT
END:VCALENDAR
