BEGIN:VCALENDAR
VERSION:2.0
CALSCALE:GREGORIAN
PRODID:-//Diputació de Barcelona//DibaCMS//EN
BEGIN:VEVENT
UID:1707
DTSTAMP:20260421T023721
DTSTART:20260115T120000
DTEND:20260115T123000
SUMMARY:Distribució de Gas Butà    
LOCATION:Ctra. d'Igualada a Valls, s/n 08787 Santa Maria de Miralles
METHOD:PUBLISH
X-WR-CALNAME:st.m.miralles@santamariademiralles.cat
X-WR-TIMEZONE:Europe/Madrid
DESCRIPTION:
URI:https://www.santamariademiralles.cat/actualitat/agenda/1707-distribucio-de-gas-buta-.html
CLASS:PUBLIC
END:VEVENT
END:VCALENDAR
