BEGIN:VCALENDAR
VERSION:2.0
CALSCALE:GREGORIAN
PRODID:-//Diputació de Barcelona//DibaCMS//EN
BEGIN:VEVENT
UID:1715
DTSTAMP:20260426T023850
DTSTART:20260203T093000
DTEND:20260203T110000
SUMMARY:Inspecció agrícola ITV
LOCATION:
METHOD:PUBLISH
X-WR-CALNAME:st.m.miralles@santamariademiralles.cat
X-WR-TIMEZONE:Europe/Madrid
DESCRIPTION:El dia 3 de febrer podeu passar la ITV dels vostres vehicles agrícoles a Santa Maria de Miralles.

URI:https://www.santamariademiralles.cat/actualitat/agenda/inspeccio-agricola-itv.html
CLASS:PUBLIC
END:VEVENT
END:VCALENDAR
