BEGIN:VCALENDAR
VERSION:2.0
CALSCALE:GREGORIAN
PRODID:-//Diputació de Barcelona//DibaCMS//EN
BEGIN:VEVENT
UID:1730
DTSTAMP:20260421T020447
DTSTART:20260904T093000
DTEND:20260904T110000
SUMMARY:Oficina atenció ciutadana Generalitat - OAC Mòbil 
LOCATION:Ctra. d'Igualada a Valls, s/n 08787 Santa Maria de Miralles
METHOD:PUBLISH
X-WR-CALNAME:st.m.miralles@santamariademiralles.cat
X-WR-TIMEZONE:Europe/Madrid
DESCRIPTION:Amb l’Oficina d’atenció ciutadana mòbil pots fer gestions i rebre informació de manera còmoda, ràpida i propera.

URI:https://www.santamariademiralles.cat/actualitat/agenda/1730-oficina-atencio-ciutadana-generalitat-oac-mobil-.html
CLASS:PUBLIC
END:VEVENT
END:VCALENDAR
