BEGIN:VCALENDAR
VERSION:2.0
CALSCALE:GREGORIAN
PRODID:-//Diputació de Barcelona//DibaCMS//EN
BEGIN:VEVENT
UID:1735
DTSTAMP:20260423T134932
DTSTART:20260422T090000
DTEND:20260426T090000
SUMMARY:Celebrem la Diada de Sant Jordi
LOCATION:Crta Igualada a Valls s/n  08787 Santa Maria de Miralles
METHOD:PUBLISH
X-WR-CALNAME:st.m.miralles@santamariademiralles.cat
X-WR-TIMEZONE:Europe/Madrid
DESCRIPTION:Que no ens tanquin la Model: Poesia i revolució.

Protagonitzat per la narradora Jordina biosca qui farà un repàs de poetes catalans i europeus que retraten moments socials o polítics i
desafien la moral o el pensament imperant del moment.
Política, sexe, religió o sàtira són els elements centrals d’aquest poemari revolucionari.
Autors: D. Miquel, A. Guimerà, J. Prevert, Sorescu, J. Lizano, E. Kilpil i més.

Us esperem el 25 d'abril a les 19:00 h al Local Social de les Antigues Escoles.

Fem cultura!!

URI:https://www.santamariademiralles.cat/actualitat/agenda/celebrem-la-diada-de-sant-jordi.html
CLASS:PUBLIC
END:VEVENT
END:VCALENDAR
